<?xml version="1.0" encoding="UTF-8" standalone="no"?>
<metadata xml:lang="en">
<Esri>
<CreaDate>20171030</CreaDate>
<CreaTime>15542300</CreaTime>
<ArcGISFormat>1.0</ArcGISFormat>
<ArcGISstyle>ISO 19139 Metadata Implementation Specification</ArcGISstyle>
<SyncOnce>FALSE</SyncOnce>
<DataProperties>
<itemProps>
<itemName Sync="TRUE">md_1965_bw</itemName>
<nativeExtBox>
<westBL Sync="TRUE">2971713.194407</westBL>
<eastBL Sync="TRUE">3241094.977766</eastBL>
<southBL Sync="TRUE">9961842.807469</southBL>
<northBL Sync="TRUE">10215355.631995</northBL>
<exTypeCode Sync="TRUE">1</exTypeCode>
</nativeExtBox>
<imsContentType export="False">
</imsContentType>
</itemProps>
<coordRef>
<type Sync="TRUE">Projected</type>
<geogcsn Sync="TRUE">GCS_North_American_1983</geogcsn>
<csUnits Sync="TRUE">Linear Unit: Foot_US (0.304801)</csUnits>
<projcsn Sync="TRUE">NAD_1983_StatePlane_Texas_Central_FIPS_4203_Feet</projcsn>
<peXml Sync="TRUE">&lt;ProjectedCoordinateSystem xsi:type='typens:ProjectedCoordinateSystem' xmlns:xsi='http://www.w3.org/2001/XMLSchema-instance' xmlns:xs='http://www.w3.org/2001/XMLSchema' xmlns:typens='http://www.esri.com/schemas/ArcGIS/10.3'&gt;&lt;WKT&gt;PROJCS[&amp;quot;NAD_1983_StatePlane_Texas_Central_FIPS_4203_Feet&amp;quot;,GEOGCS[&amp;quot;GCS_North_American_1983&amp;quot;,DATUM[&amp;quot;D_North_American_1983&amp;quot;,SPHEROID[&amp;quot;GRS_1980&amp;quot;,6378137.0,298.257222101]],PRIMEM[&amp;quot;Greenwich&amp;quot;,0.0],UNIT[&amp;quot;Degree&amp;quot;,0.0174532925199433]],PROJECTION[&amp;quot;Lambert_Conformal_Conic&amp;quot;],PARAMETER[&amp;quot;false_easting&amp;quot;,2296583.333333333],PARAMETER[&amp;quot;false_northing&amp;quot;,9842500.0],PARAMETER[&amp;quot;central_meridian&amp;quot;,-100.3333333333333],PARAMETER[&amp;quot;standard_parallel_1&amp;quot;,30.11666666666667],PARAMETER[&amp;quot;standard_parallel_2&amp;quot;,31.88333333333333],PARAMETER[&amp;quot;latitude_of_origin&amp;quot;,29.66666666666667],UNIT[&amp;quot;Foot_US&amp;quot;,0.3048006096012192],AUTHORITY[&amp;quot;EPSG&amp;quot;,2277]]&lt;/WKT&gt;&lt;XOrigin&gt;-124805500&lt;/XOrigin&gt;&lt;YOrigin&gt;-81923100&lt;/YOrigin&gt;&lt;XYScale&gt;35432942.484959878&lt;/XYScale&gt;&lt;ZOrigin&gt;-100000&lt;/ZOrigin&gt;&lt;ZScale&gt;10000&lt;/ZScale&gt;&lt;MOrigin&gt;-100000&lt;/MOrigin&gt;&lt;MScale&gt;10000&lt;/MScale&gt;&lt;XYTolerance&gt;0.0032808333333333331&lt;/XYTolerance&gt;&lt;ZTolerance&gt;0.001&lt;/ZTolerance&gt;&lt;MTolerance&gt;0.001&lt;/MTolerance&gt;&lt;HighPrecision&gt;true&lt;/HighPrecision&gt;&lt;WKID&gt;102739&lt;/WKID&gt;&lt;LatestWKID&gt;2277&lt;/LatestWKID&gt;&lt;/ProjectedCoordinateSystem&gt;</peXml>
</coordRef>
<RasterProperties>
<General>
<PixelDepth Sync="TRUE">8</PixelDepth>
<HasColormap Sync="TRUE">FALSE</HasColormap>
<CompressionType Sync="TRUE">None</CompressionType>
<NumBands Sync="TRUE">1</NumBands>
<Format Sync="TRUE">AMD</Format>
<HasPyramids Sync="TRUE">TRUE</HasPyramids>
<SourceType Sync="TRUE">continuous</SourceType>
<PixelType Sync="TRUE">unsigned integer</PixelType>
<NoDataValue Sync="TRUE">
</NoDataValue>
</General>
<Properties>
<MaxImageHeight Sync="TRUE">4100</MaxImageHeight>
<MaxImageWidth Sync="TRUE">15000</MaxImageWidth>
<MaxRecordCount Sync="TRUE">1000</MaxRecordCount>
<MaxDownloadImageCount Sync="TRUE">20</MaxDownloadImageCount>
<MaxDownloadSizeLimit Sync="TRUE">2048</MaxDownloadSizeLimit>
<MaxMosaicImageCount Sync="TRUE">20</MaxMosaicImageCount>
<DefaultCompressionQuality Sync="TRUE">75</DefaultCompressionQuality>
<DefaultCompressionTolerance Sync="TRUE">0.01</DefaultCompressionTolerance>
<BlendWidth Sync="TRUE">10</BlendWidth>
<ViewpointSpacingX Sync="TRUE">600</ViewpointSpacingX>
<ViewpointSpacingY Sync="TRUE">300</ViewpointSpacingY>
<AllowedItemMetadata Sync="TRUE">Basic</AllowedItemMetadata>
<DefaultResamplingMethod Sync="TRUE">1</DefaultResamplingMethod>
<AllowedMosaicMethods Sync="TRUE">Seamline,NorthWest,Center,LockRaster,ByAttribute,Nadir,Viewpoint,None</AllowedMosaicMethods>
<AllowedCompressions Sync="TRUE">None,JPEG,LZ77,LERC</AllowedCompressions>
<AllowedMensurationCapabilities Sync="TRUE">None</AllowedMensurationCapabilities>
<AvailableMensurationCapabilities Sync="TRUE">None,Basic,Base-Top Height,Top-Top Shadow Height,Base-Top Shadow Height,3D</AvailableMensurationCapabilities>
<ClipToBoundary Sync="TRUE">-1</ClipToBoundary>
<FootprintMayContainNoData Sync="TRUE">-1</FootprintMayContainNoData>
<CellSizeTolerance Sync="TRUE">0.8</CellSizeTolerance>
<MinimumPixelContribution Sync="TRUE">1</MinimumPixelContribution>
<AvailableMosaicMethods Sync="TRUE">NorthWest,Center,LockRaster,ByAttribute,Nadir,Viewpoint,Seamline,None</AvailableMosaicMethods>
<AvailableCompressionMethods Sync="TRUE">None,JPEG,LZ77,LERC</AvailableCompressionMethods>
<AvailableItemMetadataLevels Sync="TRUE">None,Basic,Full</AvailableItemMetadataLevels>
<ConfigKeyword Sync="TRUE">
</ConfigKeyword>
<BandDefinitionKeyword Sync="TRUE">NONE</BandDefinitionKeyword>
<AllowedFields Sync="TRUE">Name,MinPS,MaxPS,LowPS,HighPS,Tag,GroupName,ProductName,CenterX,CenterY,ZOrder,Shape_Length,Shape_Area,SOrder,SLevelPS</AllowedFields>
<MaxCellSize Sync="TRUE">91361.382941652</MaxCellSize>
<LowCellSize Sync="TRUE">0.822140650369593</LowCellSize>
<HighCellSize Sync="TRUE">1827.22765883304</HighCellSize>
<ClipToFootprint Sync="TRUE">-1</ClipToFootprint>
<TimeStamp.RemoveItems Sync="TRUE">42997.8033289352</TimeStamp.RemoveItems>
<TimeStamp.UpdateExtent Sync="TRUE">42997.8040270718</TimeStamp.UpdateExtent>
</Properties>
<Functions Sync="TRUE">
<Function Description="Performs on-the-fly mosaic on a raster catalog." Name="Mosaic Function">
</Function>
</Functions>
</RasterProperties>
</DataProperties>
<SyncDate>20171004</SyncDate>
<SyncTime>10372000</SyncTime>
<ModDate>20171004</ModDate>
<ModTime>10372000</ModTime>
<scaleRange>
<minScale>150000000</minScale>
<maxScale>5000</maxScale>
</scaleRange>
<ArcGISProfile>FGDC</ArcGISProfile>
</Esri>
<dataIdInfo>
<envirDesc Sync="TRUE"> Version 6.2 (Build 9200) ; Esri ArcGIS 10.3.1.4959</envirDesc>
<dataLang>
<languageCode Sync="TRUE" value="eng">
</languageCode>
<countryCode Sync="TRUE" value="USA">
</countryCode>
</dataLang>
<idCitation>
<resTitle Sync="TRUE">md_1965_bw</resTitle>
<presForm>
<PresFormCd Sync="TRUE" value="005">
</PresFormCd>
</presForm>
<date>
<createDate>2017-09-28T00:00:00</createDate>
<pubDate>2017-09-28T00:00:00</pubDate>
</date>
<citRespParty>
<editorSource>external</editorSource>
<editorDigest>9840cb99e3d1bea3c6903fd9718455a</editorDigest>
<rpIndName>Jon Meade</rpIndName>
<rpOrgName>Watershed Protection Department</rpOrgName>
<rpPosName>GIS Analyst Senior</rpPosName>
<editorSave>True</editorSave>
<displayName>Jon Meade</displayName>
<role>
<RoleCd value="007">
</RoleCd>
</role>
</citRespParty>
<citRespParty>
<editorSource>external</editorSource>
<editorDigest>101b63a5793d20175f5617f22b5da9a</editorDigest>
<rpOrgName>CTM - GIS</rpOrgName>
<rpPosName>Analyst GIS Data Support</rpPosName>
<rpCntInfo>
<cntAddress addressType="">
<eMailAdd>desk.ctm-HELP@austintexas.gov</eMailAdd>
</cntAddress>
</rpCntInfo>
<editorSave>True</editorSave>
<displayName>CTM - GIS</displayName>
<role>
<RoleCd value="007">
</RoleCd>
</role>
</citRespParty>
</idCitation>
<spatRpType>
<SpatRepTypCd Sync="TRUE" value="002">
</SpatRepTypCd>
</spatRpType>
<dataExt>
<geoEle>
<GeoBndBox esriExtentType="search">
<exTypeCode Sync="TRUE">1</exTypeCode>
<westBL Sync="TRUE">-98.201042</westBL>
<eastBL Sync="TRUE">-97.328974</eastBL>
<northBL Sync="TRUE">30.673927</northBL>
<southBL Sync="TRUE">29.959973</southBL>
</GeoBndBox>
</geoEle>
</dataExt>
<idPurp>This layer is a mosaic dataset of approx 629 individual black and white scanned aerial photos approx. 9 ½” x 9 ½” in size. Images were captured by US...</idPurp>
<idCredit>City of Austin
Watershed Protection Department</idCredit>
<resConst>
<Consts>
<useLimit>&lt;DIV STYLE="text-align:Left;"&gt;&lt;DIV&gt;&lt;DIV&gt;&lt;P&gt;&lt;SPAN&gt;This product is for informational purposes and may not have been prepared for or be suitable for legal, engineering, or surveying purposes. It does not represent an on-the-ground survey and represents only the approximate relative location of property boundaries.This product has been produced by the City of Austin for the sole purpose of geographic reference. No warranty is made by the City of Austin regarding specific accuracy or completeness.&lt;/SPAN&gt;&lt;/P&gt;&lt;/DIV&gt;&lt;/DIV&gt;&lt;/DIV&gt;</useLimit>
</Consts>
</resConst>
<dataChar>
<CharSetCd value="004">
</CharSetCd>
</dataChar>
<resMaint>
<maintFreq>
<MaintFreqCd value="011">
</MaintFreqCd>
</maintFreq>
</resMaint>
<searchKeys>
<keyword>1965 aerial photo</keyword>
</searchKeys>
<tpCat>
<TopicCatCd value="010">
</TopicCatCd>
</tpCat>
<idAbs/>
</dataIdInfo>
<mdLang>
<languageCode Sync="TRUE" value="eng">
</languageCode>
<countryCode Sync="TRUE" value="USA">
</countryCode>
</mdLang>
<mdChar>
<CharSetCd Sync="TRUE" value="004">
</CharSetCd>
</mdChar>
<refSysInfo>
<RefSystem>
<refSysID>
<identCode Sync="TRUE" code="2277">
</identCode>
<idCodeSpace Sync="TRUE">EPSG</idCodeSpace>
<idVersion Sync="TRUE">8.6.2</idVersion>
</refSysID>
</RefSystem>
</refSysInfo>
<spatRepInfo>
<Georect>
<cellGeo>
<CellGeoCd Sync="TRUE" value="002">
</CellGeoCd>
</cellGeo>
<numDims Sync="TRUE">2</numDims>
<tranParaAv Sync="TRUE">1</tranParaAv>
<chkPtAv Sync="TRUE">0</chkPtAv>
<cornerPts>
<pos Sync="TRUE">2971713.194407 9961842.807469</pos>
</cornerPts>
<cornerPts>
<pos Sync="TRUE">2971713.194407 10215355.631995</pos>
</cornerPts>
<cornerPts>
<pos Sync="TRUE">3241094.977766 10215355.631995</pos>
</cornerPts>
<cornerPts>
<pos Sync="TRUE">3241094.977766 9961842.807469</pos>
</cornerPts>
<centerPt>
<pos Sync="TRUE">3106404.086087 10088599.219732</pos>
</centerPt>
<axisDimension type="002">
<dimSize Sync="TRUE">327659</dimSize>
<dimResol>
<value Sync="TRUE">0.822141</value>
</dimResol>
</axisDimension>
<axisDimension type="001">
<dimSize Sync="TRUE">308357</dimSize>
<dimResol>
<value Sync="TRUE">0.822141</value>
</dimResol>
</axisDimension>
<ptInPixel>
<PixOrientCd Sync="TRUE" value="001">
</PixOrientCd>
</ptInPixel>
</Georect>
</spatRepInfo>
<contInfo>
<ImgDesc>
<contentTyp>
<ContentTypCd Sync="TRUE" value="001">
</ContentTypCd>
</contentTyp>
<covDim>
<Band>
<dimDescrp Sync="TRUE">Band_1</dimDescrp>
<maxVal Sync="TRUE">255.000000</maxVal>
<minVal Sync="TRUE">4.000000</minVal>
<bitsPerVal Sync="TRUE">8</bitsPerVal>
</Band>
</covDim>
</ImgDesc>
</contInfo>
<mdDateSt Sync="TRUE">20171004</mdDateSt>
<mdHrLv>
<ScopeCd value="005">
</ScopeCd>
</mdHrLv>
<mdContact>
<editorSource>external</editorSource>
<editorDigest>9840cb99e3d1bea3c6903fd9718455a</editorDigest>
<rpIndName>Jon Meade</rpIndName>
<rpOrgName>Watershed Protection Department</rpOrgName>
<rpPosName>GIS Analyst Senior</rpPosName>
<editorSave>True</editorSave>
<displayName>Jon Meade</displayName>
</mdContact>
<mdContact>
<editorSource>external</editorSource>
<editorDigest>101b63a5793d20175f5617f22b5da9a</editorDigest>
<rpOrgName>CTM - GIS</rpOrgName>
<rpPosName>Analyst GIS Data Support</rpPosName>
<rpCntInfo>
<cntAddress addressType="">
<eMailAdd>desk.ctm-HELP@austintexas.gov</eMailAdd>
</cntAddress>
</rpCntInfo>
<editorSave>True</editorSave>
<displayName>CTM - GIS</displayName>
</mdContact>
<mdMaint>
<maintFreq>
<MaintFreqCd value="011">
</MaintFreqCd>
</maintFreq>
</mdMaint>
<mdConst>
<Consts>
<useLimit>&lt;DIV STYLE="text-align:Left;"&gt;&lt;DIV&gt;&lt;P&gt;&lt;SPAN&gt;This product is for informational purposes and may not have been prepared for or be suitable for legal, engineering, or surveying purposes. It does not represent an on-the-ground survey and represents only the approximate relative location of property boundaries.This product has been produced by the City of Austin for the sole purpose of geographic reference. No warranty is made by the City of Austin regarding specific accuracy or completeness.&lt;/SPAN&gt;&lt;/P&gt;&lt;/DIV&gt;&lt;/DIV&gt;</useLimit>
</Consts>
</mdConst>
</metadata>
