{ "currentVersion": 11.1, "serviceDescription": "
This layer is a mosaic dataset comprising the 6-inch true color orthoimagery acquired during the month of March 2013. This layer is intended to supplement the IMAGERYBASEMAPSEARTHCOVER.md_2012_01_6in_tc mosaic dataset in order to provide an alternative set of imagery for the downtown Austin area with fewer building \"lean\" issues, where tall buildings may obscure the ground below because of the angle of the photograph.<\/SPAN><\/P><\/DIV><\/DIV><\/DIV>",
"name": "AerialMosaics/Aerials2013",
"description": " This layer is a mosaic dataset comprising the 6-inch true color orthoimagery acquired during the month of March 2013. This layer is intended to supplement the IMAGERYBASEMAPSEARTHCOVER.md_2012_01_6in_tc mosaic dataset in order to provide an alternative set of imagery for the downtown Austin area with fewer building \"lean\" issues, where tall buildings may obscure the ground below because of the angle of the photograph.<\/SPAN><\/P><\/DIV><\/DIV><\/DIV>",
"extent": {
"xmin": 3106954.5,
"ymin": 10064095,
"xmax": 3121923.5,
"ymax": 10081407,
"spatialReference": {
"wkid": 102739,
"latestWkid": 2277
}
},
"initialExtent": {
"xmin": 3106954.5,
"ymin": 10064095,
"xmax": 3121923.5,
"ymax": 10081407,
"spatialReference": {
"wkid": 102739,
"latestWkid": 2277
}
},
"fullExtent": {
"xmin": 3106954.5,
"ymin": 10064095,
"xmax": 3121923.5,
"ymax": 10081407,
"spatialReference": {
"wkid": 102739,
"latestWkid": 2277
}
},
"sortableFields": "",
"bandCount": 3,
"pixelType": "U8",
"minValues": [
0,
0,
0
],
"maxValues": [
255,
255,
255
],
"meanValues": [
96.86319126240122,
98.90940153648899,
94.76174962165798
],
"stdvValues": [
38.264495174313716,
37.17065079646693,
36.473802925363614
],
"hasMultidimensions": false,
"pixelSizeX": 0.5,
"pixelSizeY": 0.5,
"datasetFormat": "AMD",
"uncompressedSize": 3109719936,
"blockWidth": 2048,
"blockHeight": 256,
"compressionType": "None",
"bandNames": [
"Band_1",
"Band_2",
"Band_3"
],
"allowCopy": true,
"allowAnalysis": true,
"itemAccess": false,
"minPixelSize": 0,
"maxPixelSize": 0,
"copyrightText": "City of Austin",
"serviceDataType": "esriImageServiceDataTypeProcessed",
"serviceSourceType": "esriImageServiceSourceTypeMosaicDataset",
"objectIdField": "OBJECTID",
"fields": [
{
"name": "OBJECTID",
"type": "esriFieldTypeOID",
"alias": "OBJECTID",
"domain": null
},
{
"name": "NAME",
"type": "esriFieldTypeString",
"alias": "Name",
"domain": null,
"length": 50
},
{
"name": "MINPS",
"type": "esriFieldTypeDouble",
"alias": "MinPS",
"domain": null
},
{
"name": "MAXPS",
"type": "esriFieldTypeDouble",
"alias": "MaxPS",
"domain": null
},
{
"name": "LOWPS",
"type": "esriFieldTypeDouble",
"alias": "LowPS",
"domain": null
},
{
"name": "HIGHPS",
"type": "esriFieldTypeDouble",
"alias": "HighPS",
"domain": null
},
{
"name": "CATEGORY",
"type": "esriFieldTypeInteger",
"alias": "Category",
"domain": {
"type": "codedValue",
"name": "MosaicCatalogItemCategoryDomain",
"description": "Catalog item categories.",
"codedValues": [
{
"name": "Unknown",
"code": 0
},
{
"name": "Primary",
"code": 1
},
{
"name": "Overview",
"code": 2
},
{
"name": "Unprocessed Overview",
"code": 3
},
{
"name": "Partial Overview",
"code": 4
},
{
"name": "Uploaded",
"code": 253
},
{
"name": "Incomplete",
"code": 254
},
{
"name": "Custom",
"code": 255
}
],
"mergePolicy": "esriMPTDefaultValue",
"splitPolicy": "esriSPTDefaultValue"
}
},
{
"name": "TAG",
"type": "esriFieldTypeString",
"alias": "Tag",
"domain": null,
"length": 20
},
{
"name": "GROUPNAME",
"type": "esriFieldTypeString",
"alias": "GroupName",
"domain": null,
"length": 50
},
{
"name": "PRODUCTNAME",
"type": "esriFieldTypeString",
"alias": "ProductName",
"domain": null,
"length": 50
},
{
"name": "CENTERX",
"type": "esriFieldTypeDouble",
"alias": "CenterX",
"domain": null
},
{
"name": "CENTERY",
"type": "esriFieldTypeDouble",
"alias": "CenterY",
"domain": null
},
{
"name": "ZORDER",
"type": "esriFieldTypeInteger",
"alias": "ZOrder",
"domain": null
},
{
"name": "SORDER",
"type": "esriFieldTypeInteger",
"alias": "SOrder",
"domain": null
},
{
"name": "STEREOID",
"type": "esriFieldTypeString",
"alias": "StereoID",
"domain": null,
"length": 50
},
{
"name": "SHAPE",
"type": "esriFieldTypeGeometry",
"alias": "Shape",
"domain": null
}
],
"capabilities": "Image,Metadata,Catalog,Mensuration",
"defaultMosaicMethod": "Center",
"allowedMosaicMethods": "Center,NorthWest,LockRaster,ByAttribute,Nadir,Viewpoint,Seamline,None",
"sortField": "",
"sortValue": null,
"sortAscending": true,
"mosaicOperator": "First",
"maxDownloadSizeLimit": 0,
"defaultCompressionQuality": 75,
"defaultResamplingMethod": "Bilinear",
"maxImageHeight": 4100,
"maxImageWidth": 15000,
"maxRecordCount": 1000,
"maxDownloadImageCount": 20,
"maxMosaicImageCount": 20,
"allowRasterFunction": true,
"rasterFunctionInfos": [
{
"name": "None",
"description": "",
"help": ""
}
],
"rasterTypeInfos": [
{
"name": "Raster Dataset",
"description": "Supports all ArcGIS Raster Datasets",
"help": ""
}
],
"mensurationCapabilities": "Basic",
"hasHistograms": true,
"hasColormap": false,
"hasRasterAttributeTable": false,
"minScale": 0,
"maxScale": 0,
"exportTilesAllowed": false,
"supportsStatistics": true,
"supportsAdvancedQueries": true,
"editFieldsInfo": null,
"ownershipBasedAccessControlForRasters": null,
"allowComputeTiePoints": false,
"useStandardizedQueries": true,
"advancedQueryCapabilities": {
"useStandardizedQueries": true,
"supportsStatistics": true,
"supportsOrderBy": true,
"supportsDistinct": true,
"supportsPagination": true
},
"spatialReference": {
"wkid": 102739,
"latestWkid": 2277
}
}