View In:
ArcGIS JavaScript
ArcGIS Online Map Viewer
ArcGIS Earth
Service Description: AerialMosaics/Aerials1958
Name: AerialMosaics/Aerials1958
Description:
Single Fused Map Cache: false
Extent:
XMin: 2970706.098403491
YMin: 9963510.930442158
XMax: 3240684.519445699
YMax: 1.0216749581564814E7
Spatial Reference: 102739
(2277)
LatestVCSWkid(0)
Initial Extent:
XMin: 2970706.098403491
YMin: 9963510.930442158
XMax: 3240684.519445699
YMax: 1.0216749581564814E7
Spatial Reference: 102739
(2277)
LatestVCSWkid(0)
Full Extent:
XMin: 2970706.098403491
YMin: 9963510.930442158
XMax: 3240684.519445699
YMax: 1.0216749581564814E7
Spatial Reference: 102739
(2277)
LatestVCSWkid(0)
Pixel Size X: 0.8169726656686944
Pixel Size Y: 0.8169726656686918
Band Count: 1
Pixel Type: U8
RasterFunction Infos: {"rasterFunctionInfos": [{
"name": "None",
"description": "",
"help": ""
}]}
Mensuration Capabilities: None
Has Histograms: true
Has Colormap: false
Has Multi Dimensions : false
Rendering Rule:
Min Scale: 0
Max Scale: 0
Copyright Text: City of AustinWatershed Protection Department
Service Data Type: esriImageServiceDataTypeGeneric
Min Values: 0
Max Values: 255
Mean Values: 138.9826492996651
Standard Deviation Values: 30.99698227344492
Object ID Field: OBJECTID
Fields:
-
OBJECTID
(
type: esriFieldTypeOID, alias: OBJECTID
)
-
NAME
(
type: esriFieldTypeString, alias: Name, length: 200
)
-
MINPS
(
type: esriFieldTypeDouble, alias: MinPS
)
-
MAXPS
(
type: esriFieldTypeDouble, alias: MaxPS
)
-
LOWPS
(
type: esriFieldTypeDouble, alias: LowPS
)
-
HIGHPS
(
type: esriFieldTypeDouble, alias: HighPS
)
-
CATEGORY
(
type: esriFieldTypeInteger, alias: Category
, Coded Values:
[0: Unknown]
, [1: Primary]
, [2: Overview]
, ...5 more...
)
-
TAG
(
type: esriFieldTypeString, alias: Tag, length: 100
)
-
GROUPNAME
(
type: esriFieldTypeString, alias: GroupName, length: 100
)
-
PRODUCTNAME
(
type: esriFieldTypeString, alias: ProductName, length: 100
)
-
CENTERX
(
type: esriFieldTypeDouble, alias: CenterX
)
-
CENTERY
(
type: esriFieldTypeDouble, alias: CenterY
)
-
ZORDER
(
type: esriFieldTypeInteger, alias: ZOrder
)
-
SHAPE
(
type: esriFieldTypeGeometry, alias: Shape
)
Default Mosaic Method: None
Allowed Mosaic Methods: None
SortField: N/A
SortValue: N/A
Mosaic Operator: First
Default Compression Quality: 75
Default Resampling Method: Bilinear
Max Record Count: 1000
Max Image Height: 4100
Max Image Width: 15000
Max Download Image Count: 20
Max Mosaic Image Count: 200
Allow Raster Function: true
Allow Copy: true
Allow Analysis: true
Allow Compute TiePoints: false
Supports Statistics: true
Supports Advanced Queries: true
Use StandardizedQueries: true
Raster Type Infos:
Name: Raster Dataset
Description: Supports all ArcGIS Raster Datasets
Help:
Has Raster Attribute Table: false
Edit Fields Info: null
Ownership Based AccessControl For Rasters: null
Child Resources:
Info
Histograms
Statistics
Key Properties
Legend
Raster Function Infos
Supported Operations:
Export Image
Query
Identify
Compute Histograms
Compute Statistics Histograms
Get Samples
Compute Class Statistics
Query Boundary
Compute Pixel Location
Compute Angles
Validate
Project