View In:
ArcGIS JavaScript
ArcGIS Online Map Viewer
ArcGIS Earth
Service Description: AerialMosaics/Aerials1976
Name: AerialMosaics/Aerials1976
Description:
Single Fused Map Cache: false
Extent:
XMin: 3052592.4146845117
YMin: 1.002725120600683E7
XMax: 3151686.599976901
YMax: 1.0146755691146059E7
Spatial Reference: 102739
(2277)
LatestVCSWkid(0)
Initial Extent:
XMin: 3052592.4146845117
YMin: 1.002725120600683E7
XMax: 3151686.599976901
YMax: 1.0146755691146059E7
Spatial Reference: 102739
(2277)
LatestVCSWkid(0)
Full Extent:
XMin: 3052592.4146845117
YMin: 1.002725120600683E7
XMax: 3151686.599976901
YMax: 1.0146755691146059E7
Spatial Reference: 102739
(2277)
LatestVCSWkid(0)
Pixel Size X: 0.8788451535842245
Pixel Size Y: 0.8788451535842182
Band Count: 4
Pixel Type: U8
RasterFunction Infos: {"rasterFunctionInfos": [{
"name": "None",
"description": "",
"help": ""
}]}
Mensuration Capabilities: None
Has Histograms: true
Has Colormap: false
Has Multi Dimensions : false
Rendering Rule:
Min Scale: 0
Max Scale: 0
Copyright Text: City of Austin - Watershed Protection Department
Service Data Type: esriImageServiceDataTypeGeneric
Min Values: 55, 55, 55, 56
Max Values: 251, 251, 251, 255
Mean Values: 136.6622496635795, 136.6622745417331, 136.6622745417331, 254.3989754724022
Standard Deviation Values: 28.926146240719817, 28.92615868930717, 28.92615868930717, 9.788767671888516
Object ID Field: OBJECTID
Fields:
-
OBJECTID
(
type: esriFieldTypeOID, alias: OBJECTID
)
-
NAME
(
type: esriFieldTypeString, alias: Name, length: 200
)
-
MINPS
(
type: esriFieldTypeDouble, alias: MinPS
)
-
MAXPS
(
type: esriFieldTypeDouble, alias: MaxPS
)
-
LOWPS
(
type: esriFieldTypeDouble, alias: LowPS
)
-
HIGHPS
(
type: esriFieldTypeDouble, alias: HighPS
)
-
CATEGORY
(
type: esriFieldTypeInteger, alias: Category
, Coded Values:
[0: Unknown]
, [1: Primary]
, [2: Overview]
, ...5 more...
)
-
TAG
(
type: esriFieldTypeString, alias: Tag, length: 100
)
-
GROUPNAME
(
type: esriFieldTypeString, alias: GroupName, length: 100
)
-
PRODUCTNAME
(
type: esriFieldTypeString, alias: ProductName, length: 100
)
-
CENTERX
(
type: esriFieldTypeDouble, alias: CenterX
)
-
CENTERY
(
type: esriFieldTypeDouble, alias: CenterY
)
-
ZORDER
(
type: esriFieldTypeInteger, alias: ZOrder
)
-
SORDER
(
type: esriFieldTypeInteger, alias: SOrder
)
-
SLEVELPS
(
type: esriFieldTypeDouble, alias: SLevelPS
)
-
SHAPE
(
type: esriFieldTypeGeometry, alias: Shape
)
Default Mosaic Method: Seamline
Allowed Mosaic Methods: Seamline
SortField:
SortValue: null
Mosaic Operator: First
Default Compression Quality: 75
Default Resampling Method: Bilinear
Max Record Count: 1000
Max Image Height: 4100
Max Image Width: 15000
Max Download Image Count: 20
Max Mosaic Image Count: 20
Allow Raster Function: true
Allow Copy: true
Allow Analysis: true
Allow Compute TiePoints: false
Supports Statistics: true
Supports Advanced Queries: true
Use StandardizedQueries: true
Raster Type Infos:
Name: Raster Dataset
Description: Supports all ArcGIS Raster Datasets
Help:
Has Raster Attribute Table: false
Edit Fields Info: null
Ownership Based AccessControl For Rasters: null
Child Resources:
Info
Histograms
Statistics
Key Properties
Legend
Raster Function Infos
Supported Operations:
Export Image
Query
Identify
Compute Histograms
Compute Statistics Histograms
Get Samples
Compute Class Statistics
Query Boundary
Compute Pixel Location
Compute Angles
Validate
Project