View In:
ArcGIS JavaScript
ArcGIS Online Map Viewer
ArcGIS Earth
Service Description: AerialMosaics/Aerials2014
Name: AerialMosaics/Aerials2014
Description:
Single Fused Map Cache: false
Extent:
XMin: 2935348.0
YMin: 9944481.0
XMax: 3239209.0
YMax: 1.0204839E7
Spatial Reference: 102739
(2277)
LatestVCSWkid(0)
Initial Extent:
XMin: 2935348.0
YMin: 9944481.0
XMax: 3239209.0
YMax: 1.0204839E7
Spatial Reference: 102739
(2277)
LatestVCSWkid(0)
Full Extent:
XMin: 2935348.0
YMin: 9944481.0
XMax: 3239209.0
YMax: 1.0204839E7
Spatial Reference: 102739
(2277)
LatestVCSWkid(0)
Pixel Size X: 1.0
Pixel Size Y: 1.0
Band Count: 4
Pixel Type: U8
RasterFunction Infos: {"rasterFunctionInfos": [{
"name": "None",
"description": "",
"help": ""
}]}
Mensuration Capabilities: Basic
Has Histograms: true
Has Colormap: false
Has Multi Dimensions : false
Rendering Rule:
Min Scale: 0
Max Scale: 0
Copyright Text:
Service Data Type: esriImageServiceDataTypeGeneric
Min Values: 0, 1, 1, 0
Max Values: 254, 254, 254, 254
Mean Values: 83.9726882740145, 100.94199990101555, 86.85582754992728, 188.04941878565236
Standard Deviation Values: 35.05954756189464, 28.619785174699473, 29.330923217487282, 28.3479519011361
Object ID Field: OBJECTID
Fields:
-
OBJECTID
(
type: esriFieldTypeOID, alias: OBJECTID
)
-
NAME
(
type: esriFieldTypeString, alias: Name, length: 50
)
-
MINPS
(
type: esriFieldTypeDouble, alias: MinPS
)
-
MAXPS
(
type: esriFieldTypeDouble, alias: MaxPS
)
-
LOWPS
(
type: esriFieldTypeDouble, alias: LowPS
)
-
HIGHPS
(
type: esriFieldTypeDouble, alias: HighPS
)
-
CATEGORY
(
type: esriFieldTypeInteger, alias: Category
, Coded Values:
[0: Unknown]
, [1: Primary]
, [2: Overview]
, ...5 more...
)
-
TAG
(
type: esriFieldTypeString, alias: Tag, length: 20
)
-
GROUPNAME
(
type: esriFieldTypeString, alias: GroupName, length: 50
)
-
PRODUCTNAME
(
type: esriFieldTypeString, alias: ProductName, length: 50
)
-
CENTERX
(
type: esriFieldTypeDouble, alias: CenterX
)
-
CENTERY
(
type: esriFieldTypeDouble, alias: CenterY
)
-
ZORDER
(
type: esriFieldTypeInteger, alias: ZOrder
)
-
SHAPE
(
type: esriFieldTypeGeometry, alias: Shape
)
Default Mosaic Method: Northwest
Allowed Mosaic Methods: NorthWest,Center,LockRaster,ByAttribute,Nadir,Viewpoint,Seamline,None
SortField:
SortValue: null
Mosaic Operator: First
Default Compression Quality: 75
Default Resampling Method: Bilinear
Max Record Count: 1000
Max Image Height: 4100
Max Image Width: 15000
Max Download Image Count: 20
Max Mosaic Image Count: 20
Allow Raster Function: true
Allow Copy: true
Allow Analysis: true
Allow Compute TiePoints: false
Supports Statistics: true
Supports Advanced Queries: true
Use StandardizedQueries: true
Raster Type Infos:
Name: Raster Dataset
Description: Supports all ArcGIS Raster Datasets
Help:
Has Raster Attribute Table: false
Edit Fields Info: null
Ownership Based AccessControl For Rasters: null
Child Resources:
Info
Histograms
Statistics
Key Properties
Legend
Raster Function Infos
Supported Operations:
Export Image
Query
Identify
Measure
Compute Histograms
Compute Statistics Histograms
Get Samples
Compute Class Statistics
Query Boundary
Compute Pixel Location
Compute Angles
Validate
Project