View In:
ArcGIS JavaScript
ArcGIS Online Map Viewer
ArcGIS Earth
Service Description: AerialMosaics/Aerials2015
Name: AerialMosaics/Aerials2015
Description:
Single Fused Map Cache: false
Extent:
XMin: 2973317.500001937
YMin: 9979028.500001907
XMax: 3233976.000001937
YMax: 1.0204840000001907E7
Spatial Reference: 102739
(2277)
LatestVCSWkid(0)
Initial Extent:
XMin: 2973317.500001937
YMin: 9979028.500001907
XMax: 3233976.000001937
YMax: 1.0204840000001907E7
Spatial Reference: 102739
(2277)
LatestVCSWkid(0)
Full Extent:
XMin: 2973317.500001937
YMin: 9979028.500001907
XMax: 3233976.000001937
YMax: 1.0204840000001907E7
Spatial Reference: 102739
(2277)
LatestVCSWkid(0)
Pixel Size X: 0.5
Pixel Size Y: 0.5
Band Count: 4
Pixel Type: U8
RasterFunction Infos: {"rasterFunctionInfos": [{
"name": "None",
"description": "",
"help": ""
}]}
Mensuration Capabilities: None
Has Histograms: true
Has Colormap: false
Has Multi Dimensions : false
Rendering Rule:
Min Scale: 0
Max Scale: 0
Copyright Text:
Service Data Type: esriImageServiceDataTypeGeneric
Min Values: 2, 6, 25, 0
Max Values: 237, 238, 243, 233
Mean Values: 86.79048368534772, 89.80081342570266, 82.28268632445447, 154.53456972183
Standard Deviation Values: 32.47887357899678, 27.540048555279114, 24.850551769519292, 30.05591441370519
Object ID Field: OBJECTID
Fields:
-
OBJECTID
(
type: esriFieldTypeOID, alias: OBJECTID
)
-
NAME
(
type: esriFieldTypeString, alias: Name, length: 50
)
-
MINPS
(
type: esriFieldTypeDouble, alias: MinPS
)
-
MAXPS
(
type: esriFieldTypeDouble, alias: MaxPS
)
-
LOWPS
(
type: esriFieldTypeDouble, alias: LowPS
)
-
HIGHPS
(
type: esriFieldTypeDouble, alias: HighPS
)
-
CATEGORY
(
type: esriFieldTypeInteger, alias: Category
, Coded Values:
[0: Unknown]
, [1: Primary]
, [2: Overview]
, ...5 more...
)
-
TAG
(
type: esriFieldTypeString, alias: Tag, length: 20
)
-
GROUPNAME
(
type: esriFieldTypeString, alias: GroupName, length: 50
)
-
PRODUCTNAME
(
type: esriFieldTypeString, alias: ProductName, length: 50
)
-
CENTERX
(
type: esriFieldTypeDouble, alias: CenterX
)
-
CENTERY
(
type: esriFieldTypeDouble, alias: CenterY
)
-
ZORDER
(
type: esriFieldTypeInteger, alias: ZOrder
)
-
SHAPE
(
type: esriFieldTypeGeometry, alias: Shape
)
Default Mosaic Method: Northwest
Allowed Mosaic Methods: NorthWest,Center,LockRaster,ByAttribute,Nadir,Viewpoint,Seamline,None
SortField:
SortValue: null
Mosaic Operator: First
Default Compression Quality: 75
Default Resampling Method: Bilinear
Max Record Count: 1000
Max Image Height: 4100
Max Image Width: 15000
Max Download Image Count: 20
Max Mosaic Image Count: 20
Allow Raster Function: true
Allow Copy: true
Allow Analysis: true
Allow Compute TiePoints: false
Supports Statistics: true
Supports Advanced Queries: true
Use StandardizedQueries: true
Raster Type Infos:
Name: Raster Dataset
Description: Supports all ArcGIS Raster Datasets
Help:
Has Raster Attribute Table: false
Edit Fields Info: null
Ownership Based AccessControl For Rasters: null
Child Resources:
Info
Histograms
Statistics
Key Properties
Legend
Raster Function Infos
Supported Operations:
Export Image
Query
Identify
Compute Histograms
Compute Statistics Histograms
Get Samples
Compute Class Statistics
Query Boundary
Compute Pixel Location
Compute Angles
Validate
Project