View In:
ArcGIS JavaScript
ArcGIS Online Map Viewer
ArcGIS Earth
Service Description: AerialMosaics/Aerials2023
Name: AerialMosaics/Aerials2023
Description:
Single Fused Map Cache: false
Extent:
XMin: 2935045.92374674
YMin: 9944183.7481267
XMax: 3239504.92374674
YMax: 1.02051397481267E7
Spatial Reference: 102739
(2277)
LatestVCSWkid(0)
Initial Extent:
XMin: 2935045.92374674
YMin: 9944183.7481267
XMax: 3239504.92374674
YMax: 1.02051397481267E7
Spatial Reference: 102739
(2277)
LatestVCSWkid(0)
Full Extent:
XMin: 2935045.92374674
YMin: 9944183.7481267
XMax: 3239504.92374674
YMax: 1.02051397481267E7
Spatial Reference: 102739
(2277)
LatestVCSWkid(0)
Pixel Size X: 0.5
Pixel Size Y: 0.5
Band Count: 4
Pixel Type: U8
RasterFunction Infos: {"rasterFunctionInfos": [{
"name": "None",
"description": "",
"help": ""
}]}
Mensuration Capabilities: None
Has Histograms: false
Has Colormap: false
Has Multi Dimensions : false
Rendering Rule:
Min Scale: 0
Max Scale: 0
Copyright Text:
Service Data Type: esriImageServiceDataTypeProcessed
Min Values: N/A
Max Values: N/A
Mean Values: N/A
Standard Deviation Values: N/A
Object ID Field: OBJECTID
Fields:
-
OBJECTID
(
type: esriFieldTypeOID, alias: OBJECTID
)
-
NAME
(
type: esriFieldTypeString, alias: NAME, length: 200
)
-
MINPS
(
type: esriFieldTypeDouble, alias: MINPS
)
-
MAXPS
(
type: esriFieldTypeDouble, alias: MAXPS
)
-
LOWPS
(
type: esriFieldTypeDouble, alias: LOWPS
)
-
HIGHPS
(
type: esriFieldTypeDouble, alias: HIGHPS
)
-
CATEGORY
(
type: esriFieldTypeInteger, alias: CATEGORY
, Coded Values:
[0: Unknown]
, [1: Primary]
, [2: Overview]
, ...5 more...
)
-
TAG
(
type: esriFieldTypeString, alias: TAG, length: 100
)
-
GROUPNAME
(
type: esriFieldTypeString, alias: GROUPNAME, length: 100
)
-
PRODUCTNAME
(
type: esriFieldTypeString, alias: PRODUCTNAME, length: 100
)
-
CENTERX
(
type: esriFieldTypeDouble, alias: CENTERX
)
-
CENTERY
(
type: esriFieldTypeDouble, alias: CENTERY
)
-
ZORDER
(
type: esriFieldTypeInteger, alias: ZORDER
)
-
SHAPE
(
type: esriFieldTypeGeometry, alias: SHAPE
)
-
SHAPE.AREA
(
type: esriFieldTypeDouble, alias: SHAPE.AREA
)
-
SHAPE.LEN
(
type: esriFieldTypeDouble, alias: SHAPE.LEN
)
Default Mosaic Method: Northwest
Allowed Mosaic Methods: NorthWest,Center,LockRaster,ByAttribute,Nadir,Viewpoint,Seamline,None
SortField:
SortValue: null
Mosaic Operator: First
Default Compression Quality: 75
Default Resampling Method: Bilinear
Max Record Count: 1000
Max Image Height: 4100
Max Image Width: 15000
Max Download Image Count: 20
Max Mosaic Image Count: 2000
Allow Raster Function: true
Allow Copy: true
Allow Analysis: true
Allow Compute TiePoints: false
Supports Statistics: true
Supports Advanced Queries: true
Use StandardizedQueries: true
Raster Type Infos:
Name: Raster Dataset
Description: Supports all ArcGIS Raster Datasets
Help:
Has Raster Attribute Table: false
Edit Fields Info: null
Ownership Based AccessControl For Rasters: null
Child Resources:
Info
Statistics
Key Properties
Legend
Raster Function Infos
Supported Operations:
Export Image
Query
Identify
Compute Histograms
Compute Statistics Histograms
Get Samples
Compute Class Statistics
Query Boundary
Compute Pixel Location
Compute Angles
Validate
Project