View In:
ArcGIS JavaScript
ArcGIS Online Map Viewer
ArcGIS Earth
Service Description: UrbanHeatIsland/UHI2021MD
Name: UrbanHeatIsland/UHI2021MD
Description:
Single Fused Map Cache: false
Extent:
XMin: -1.0942412234579824E7
YMin: 3493656.0888567343
XMax: -1.0837685234579824E7
YMax: 3584616.0888567343
Spatial Reference: 102100
(3857)
LatestVCSWkid(0)
Initial Extent:
XMin: -1.0942412234579824E7
YMin: 3493656.0888567343
XMax: -1.0837685234579824E7
YMax: 3584616.0888567343
Spatial Reference: 102100
(3857)
LatestVCSWkid(0)
Full Extent:
XMin: -1.0942412234579824E7
YMin: 3493656.0888567343
XMax: -1.0837685234579824E7
YMax: 3584616.0888567343
Spatial Reference: 102100
(3857)
LatestVCSWkid(0)
Pixel Size X: 3.0
Pixel Size Y: 3.0
Band Count: 1
Pixel Type: U4
RasterFunction Infos: {"rasterFunctionInfos": [{
"name": "None",
"description": "",
"help": ""
}]}
Mensuration Capabilities: Basic
Has Histograms: true
Has Colormap: false
Has Multi Dimensions : false
Rendering Rule:
Min Scale: 0
Max Scale: 0
Copyright Text: WPD
Service Data Type: esriImageServiceDataTypeThematic
Min Values: 1
Max Values: 6
Mean Values: 1.9357695181021344
Standard Deviation Values: 0.7738267081522148
Object ID Field:
Fields:
None
Default Mosaic Method: Center
Allowed Mosaic Methods:
SortField:
SortValue: null
Mosaic Operator: First
Default Compression Quality: 75
Default Resampling Method: Bilinear
Max Record Count: null
Max Image Height: 4100
Max Image Width: 15000
Max Download Image Count: null
Max Mosaic Image Count: null
Allow Raster Function: true
Allow Copy: true
Allow Analysis: true
Allow Compute TiePoints: false
Supports Statistics: false
Supports Advanced Queries: false
Use StandardizedQueries: true
Raster Type Infos:
Name: Raster Dataset
Description: Supports all ArcGIS Raster Datasets
Help:
Has Raster Attribute Table: true
Edit Fields Info: null
Ownership Based AccessControl For Rasters: null
Child Resources:
Info
Raster Attribute Table
Histograms
Statistics
Key Properties
Legend
Raster Function Infos
Supported Operations:
Export Image
Identify
Measure
Compute Histograms
Compute Statistics Histograms
Get Samples
Compute Class Statistics
Query Boundary
Compute Pixel Location
Compute Angles
Validate
Project