View In:
ArcGIS JavaScript
ArcGIS Online Map Viewer
ArcGIS Earth
Service Description: This layer is a mosaic dataset comprising the 6-inch true color orthoimagery acquired during the month of March 2013. This layer is intended to supplement the IMAGERYBASEMAPSEARTHCOVER.md_2012_01_6in_tc mosaic dataset in order to provide an alternative set of imagery for the downtown Austin area with fewer building "lean" issues, where tall buildings may obscure the ground below because of the angle of the photograph.
Name: AerialMosaics/Aerials2013
Description: This layer is a mosaic dataset comprising the 6-inch true color orthoimagery acquired during the month of March 2013. This layer is intended to supplement the IMAGERYBASEMAPSEARTHCOVER.md_2012_01_6in_tc mosaic dataset in order to provide an alternative set of imagery for the downtown Austin area with fewer building "lean" issues, where tall buildings may obscure the ground below because of the angle of the photograph.
Single Fused Map Cache: false
Extent:
XMin: 3106954.5
YMin: 1.0064095E7
XMax: 3121923.5
YMax: 1.0081407E7
Spatial Reference: 102739
(2277)
LatestVCSWkid(0)
Initial Extent:
XMin: 3106954.5
YMin: 1.0064095E7
XMax: 3121923.5
YMax: 1.0081407E7
Spatial Reference: 102739
(2277)
LatestVCSWkid(0)
Full Extent:
XMin: 3106954.5
YMin: 1.0064095E7
XMax: 3121923.5
YMax: 1.0081407E7
Spatial Reference: 102739
(2277)
LatestVCSWkid(0)
Pixel Size X: 0.5
Pixel Size Y: 0.5
Band Count: 3
Pixel Type: U8
RasterFunction Infos: {"rasterFunctionInfos": [{
"name": "None",
"description": "",
"help": ""
}]}
Mensuration Capabilities: Basic
Has Histograms: true
Has Colormap: false
Has Multi Dimensions : false
Rendering Rule:
Min Scale: 0
Max Scale: 0
Copyright Text: City of Austin
Service Data Type: esriImageServiceDataTypeProcessed
Min Values: 0, 0, 0
Max Values: 255, 255, 255
Mean Values: 96.86319126240122, 98.90940153648899, 94.76174962165798
Standard Deviation Values: 38.264495174313716, 37.17065079646693, 36.473802925363614
Object ID Field: OBJECTID
Fields:
-
OBJECTID
(
type: esriFieldTypeOID, alias: OBJECTID
)
-
NAME
(
type: esriFieldTypeString, alias: Name, length: 50
)
-
MINPS
(
type: esriFieldTypeDouble, alias: MinPS
)
-
MAXPS
(
type: esriFieldTypeDouble, alias: MaxPS
)
-
LOWPS
(
type: esriFieldTypeDouble, alias: LowPS
)
-
HIGHPS
(
type: esriFieldTypeDouble, alias: HighPS
)
-
CATEGORY
(
type: esriFieldTypeInteger, alias: Category
, Coded Values:
[0: Unknown]
, [1: Primary]
, [2: Overview]
, ...5 more...
)
-
TAG
(
type: esriFieldTypeString, alias: Tag, length: 20
)
-
GROUPNAME
(
type: esriFieldTypeString, alias: GroupName, length: 50
)
-
PRODUCTNAME
(
type: esriFieldTypeString, alias: ProductName, length: 50
)
-
CENTERX
(
type: esriFieldTypeDouble, alias: CenterX
)
-
CENTERY
(
type: esriFieldTypeDouble, alias: CenterY
)
-
ZORDER
(
type: esriFieldTypeInteger, alias: ZOrder
)
-
SORDER
(
type: esriFieldTypeInteger, alias: SOrder
)
-
STEREOID
(
type: esriFieldTypeString, alias: StereoID, length: 50
)
-
SHAPE
(
type: esriFieldTypeGeometry, alias: Shape
)
Default Mosaic Method: Center
Allowed Mosaic Methods: Center,NorthWest,LockRaster,ByAttribute,Nadir,Viewpoint,Seamline,None
SortField:
SortValue: null
Mosaic Operator: First
Default Compression Quality: 75
Default Resampling Method: Bilinear
Max Record Count: 1000
Max Image Height: 4100
Max Image Width: 15000
Max Download Image Count: 20
Max Mosaic Image Count: 20
Allow Raster Function: true
Allow Copy: true
Allow Analysis: true
Allow Compute TiePoints: false
Supports Statistics: true
Supports Advanced Queries: true
Use StandardizedQueries: true
Raster Type Infos:
Name: Raster Dataset
Description: Supports all ArcGIS Raster Datasets
Help:
Has Raster Attribute Table: false
Edit Fields Info: null
Ownership Based AccessControl For Rasters: null
Child Resources:
Info
Histograms
Statistics
Key Properties
Legend
Raster Function Infos
Supported Operations:
Export Image
Query
Identify
Measure
Compute Histograms
Compute Statistics Histograms
Get Samples
Compute Class Statistics
Query Boundary
Compute Pixel Location
Compute Angles
Validate
Project